BEGIN:VCALENDAR
VERSION:2.0
PRODID:-//eventon.com NONSGML v1.0//EN
CALSCALE:GREGORIAN
METHOD:PUBLISH
BEGIN:VEVENT
UID:69e7820bf30a9
DTSTAMP:20260421T135627Z
DTSTART:20260523T170000Z
DTEND:20260523T215900Z
LOCATION:Casa del Libro Pg. de Russafa\,  11\,  Ciutat Vella\,  46002 València
SUMMARY:CUENTACUENTOS "Polis y cacos\,  ladrones y un asesinato para los postres"
DESCRIPTION:ENTRADA LIBRE Público: 6 a 10 años\nhttps://valencianegra.com
 /events/cuentacuentos-polis-y-cacos-ladrones-y-un-asesinato-para-los-postre
 s-2
URL:https://valencianegra.com/events/cuentacuentos-polis-y-cacos-ladrones-y-un-asesinato-para-los-postres-2
END:VEVENT
END:VCALENDAR