BEGIN:VCALENDAR
VERSION:2.0
PRODID:-//eventon.com NONSGML v1.0//EN
CALSCALE:GREGORIAN
METHOD:PUBLISH
BEGIN:VEVENT
UID:69e78350e068d
DTSTAMP:20260421T140152Z
DTSTART:20260520T153000Z
DTEND:20260520T163000Z
LOCATION:Biblioteca Municipal Palau de L&#039;Exposició Carrer de Galícia\,  1\,  46010 València
SUMMARY:CUENTACUENTOS "POLIS Y CACOS"
DESCRIPTION:ENTRADA LIBRE - Público: 7 a 10 años\nhttps://valencianegra.c
 om/events/cuentacuentos-polis-y-cacos-2?lang=ca
URL:https://valencianegra.com/events/cuentacuentos-polis-y-cacos-2?lang=ca
END:VEVENT
END:VCALENDAR