BEGIN:VCALENDAR
VERSION:2.0
PRODID:-//eventon.com NONSGML v1.0//EN
CALSCALE:GREGORIAN
METHOD:PUBLISH
BEGIN:VEVENT
UID:69e783709778c
DTSTAMP:20260421T140224Z
DTSTART:20260521T100000Z
DTEND:20260521T120000Z
LOCATION:Biblioteca Municipal Palau de L&#039;Exposició Carrer de Galícia\,  1\,  46010 València
SUMMARY:CUENTACUENTOS "POLIS Y CACOS"
DESCRIPTION:Público : escolares Contaremos con dos sesiones : Primer pase:
  12:00 h Segundo pase: 13:00 h &nbsp;\nhttps://valencianegra.com/events/cue
 ntacuentos-polis-y-cacos?lang=ca
URL:https://valencianegra.com/events/cuentacuentos-polis-y-cacos?lang=ca
END:VEVENT
END:VCALENDAR