BEGIN:VCALENDAR
VERSION:2.0
PRODID:-//eventon.com NONSGML v1.0//EN
CALSCALE:GREGORIAN
METHOD:PUBLISH
BEGIN:VEVENT
UID:69e7832244f9b
DTSTAMP:20260421T140106Z
DTSTART:20260519T080000Z
DTEND:20260519T110000Z
LOCATION:Biblioteca Municipal Luis Fullana Plaza Maguncia\,  1\,  46018 Valencia
SUMMARY:CUENTACUENTOS "POLIS Y CACOS\,  LADRONES Y UN ASESINATO PARA LOS POSTRES"
DESCRIPTION:Público : escolares Contaremos con dos sesiones : Primer pase:
  10:00 h Segundo pase: 12:00 h\nhttps://valencianegra.com/events/cuentacuen
 tos-polis-y-cacos-ladrones-y-un-asesinato-para-los-postres?lang=ca
URL:https://valencianegra.com/events/cuentacuentos-polis-y-cacos-ladrones-y-un-asesinato-para-los-postres?lang=ca
END:VEVENT
END:VCALENDAR