BEGIN:VCALENDAR
VERSION:2.0
PRODID:-//eventon.com NONSGML v1.0//EN
CALSCALE:GREGORIAN
METHOD:PUBLISH
BEGIN:VEVENT
UID:69e7996522f03
DTSTAMP:20260421T153605Z
DTSTART:20260523T100000Z
DTEND:20260523T215900Z
LOCATION:Librería Galeradas C/Angel Guimerà\,  44 - 46008 València
SUMMARY:CLUB DE LECTURA "SIN INDICES CRIMINALES"
DESCRIPTION:Apúntate escribiendo a nuestro email: actividadesvlcn@gmail.co
 m\nhttps://valencianegra.com/events/club-de-lectura-sin-indices-criminales?
 lang=ca
URL:https://valencianegra.com/events/club-de-lectura-sin-indices-criminales?lang=ca
END:VEVENT
END:VCALENDAR