BEGIN:VCALENDAR
VERSION:2.0
PRODID:-//eventon.com NONSGML v1.0//EN
CALSCALE:GREGORIAN
METHOD:PUBLISH
BEGIN:VEVENT
UID:69e799b6c8fff
DTSTAMP:20260421T153726Z
DTSTART:20260523T090000Z
DTEND:20260523T215900Z
LOCATION:Casa de la Cultura de Torrent Antic Carrer de Mossen Sicra\,  17\,  46900 Torrent\,  Valencia
SUMMARY:CLUB DE LECTURA "EL SACRIFICIO" (en inglés)
DESCRIPTION:Apúntate escribiendo a nuestro email: actividadesvlcn@gmail.co
 m &nbsp; &nbsp;\nhttps://valencianegra.com/events/club-de-lectura-el-sacrif
 icio-en-ingles?lang=ca
URL:https://valencianegra.com/events/club-de-lectura-el-sacrificio-en-ingles?lang=ca
END:VEVENT
END:VCALENDAR