BEGIN:VCALENDAR
VERSION:2.0
PRODID:-//eventon.com NONSGML v1.0//EN
CALSCALE:GREGORIAN
METHOD:PUBLISH
BEGIN:VEVENT
UID:69e7828bd4d31
DTSTAMP:20260421T135835Z
DTSTART:20260522T160000Z
DTEND:20260522T215900Z
LOCATION:CC Alquería d&#039;Albors Camí Alqueria d'Albors\,  4\,  Rascanya\,  46019 València\,  Valencia
SUMMARY:CLUB DE LECTURA "LA SANGRE"
DESCRIPTION:Apúntate escribiendo a nuestro email: actividadesvlcn@gmail.co
 m\nhttps://valencianegra.com/events/club-de-lectura-la-sangre?lang=ca
URL:https://valencianegra.com/events/club-de-lectura-la-sangre?lang=ca
END:VEVENT
END:VCALENDAR