BEGIN:VCALENDAR
VERSION:2.0
PRODID:-//eventon.com NONSGML v1.0//EN
CALSCALE:GREGORIAN
METHOD:PUBLISH
BEGIN:VEVENT
UID:69e75e50bc855
DTSTAMP:20260421T112400Z
DTSTART:20260522T163000Z
DTEND:20260522T215900Z
LOCATION:Biblioteca Metro - TORRENT Avinguda al Vedat\,  103 tercera planta\,  46901 Torrent\,  Valencia
SUMMARY:CLUB DE LECTURA "FOSCA"
DESCRIPTION:Apúntate escribiendo a nuestro email: actividadesvlcn@gmail.co
 m &nbsp; &nbsp;\nhttps://valencianegra.com/events/club-de-lectura-fosca?lan
 g=ca
URL:https://valencianegra.com/events/club-de-lectura-fosca?lang=ca
END:VEVENT
END:VCALENDAR