BEGIN:VCALENDAR
VERSION:2.0
PRODID:-//eventon.com NONSGML v1.0//EN
CALSCALE:GREGORIAN
METHOD:PUBLISH
BEGIN:VEVENT
UID:69e782a56023b
DTSTAMP:20260421T135901Z
DTSTART:20260520T153000Z
DTEND:20260520T215900Z
LOCATION:Biblioteca Municipal Carola Reig Salva C/ de Francesc Martínez\,  32-34 46020 València
SUMMARY:CLUB DE LECTURA "RECORDARÁN TU NOMBRE"
DESCRIPTION:Apúntate escribiendo a nuestro email : actividadesvlcn@gmail.c
 om\nhttps://valencianegra.com/events/club-de-lectura-recordaran-tu-nombre?l
 ang=ca
URL:https://valencianegra.com/events/club-de-lectura-recordaran-tu-nombre?lang=ca
END:VEVENT
END:VCALENDAR