BEGIN:VCALENDAR
VERSION:2.0
PRODID:-//eventon.com NONSGML v1.0//EN
CALSCALE:GREGORIAN
METHOD:PUBLISH
BEGIN:VEVENT
UID:69e7838055000
DTSTAMP:20260421T140240Z
DTSTART:20260521T183000Z
DTEND:20260521T215900Z
LOCATION:La Filmoteca Pl. de l'Ajuntament\,  17\,  Ciutat Vella\,  46002 València
SUMMARY:COLOQUIO "la huella del mal": de la tinta a la pantalla
DESCRIPTION:Hablaremos con Manuel Ríos Sanmartín\,  que tiene una perspec
 tiva única como creador\,  ya que es el escritor de la novela. También es
  el guionista de la película. Finalmente\,  fue el director de la películ
 a. Es decir\,  concentra en su persona todos los pasos narrativos\,  por lo
  que podrá contarnos cómo[..]\nhttps://valencianegra.com/events/coloquio-
 huella-mal?lang=ca
URL:https://valencianegra.com/events/coloquio-huella-mal?lang=ca
END:VEVENT
END:VCALENDAR