BEGIN:VCALENDAR
VERSION:2.0
PRODID:-//eventon.com NONSGML v1.0//EN
CALSCALE:GREGORIAN
METHOD:PUBLISH
BEGIN:VEVENT
UID:69e79a354d881
DTSTAMP:20260421T153933Z
DTSTART:20260518T160000Z
DTEND:20260518T215900Z
LOCATION:Fnac San Agustín C/ Guillem De Castro 9-11 - 46007 Valencia
SUMMARY:PODCAST EN VIVO "CRÓNICAS DE LA CALLE MORGUE"
DESCRIPTION:"Crónicas de la Calle Morgue" es un podcast dirigido por la cr
 iminóloga Ana Mendoza\,  que ha consolidado su éxito en el género true c
 rime español\,  ganando el Premio iVoox 2024 en la categoría de crímenes
  reales. Además\,  el programa fue galardonado con el tercer premio en los
  Premios iVoox 2025.[..]\nhttps://valencianegra.com/events/podcast-en-vivo-
 cronicas-de-la-morgue?lang=ca
URL:https://valencianegra.com/events/podcast-en-vivo-cronicas-de-la-morgue?lang=ca
END:VEVENT
END:VCALENDAR