BEGIN:VCALENDAR
VERSION:2.0
PRODID:-//eventon.com NONSGML v1.0//EN
CALSCALE:GREGORIAN
METHOD:PUBLISH
BEGIN:VEVENT
UID:69e799651d366
DTSTAMP:20260421T153605Z
DTSTART:20260523T110000Z
DTEND:20260523T215900Z
LOCATION:Fnac San Agustín C/ Guillem De Castro 9-11 - 46007 Valencia
SUMMARY:LA CASA TORCIDA
DESCRIPTION:Nuestras invitadas buscan escenarios alternativos Para el crime
 n\,  maneras diferentes de encontrar una trama. Huir de lo clásico para en
 contrar nuevos caminos en la literatura negra del siglo XXI. El reto está 
 servido. “La Casa Torcida” es una novela publicada por Agatha Christie 
 en 1949\,  de la que ella misma[..]\nhttps://valencianegra.com/events/la-ca
 sa-torcida?lang=ca
URL:https://valencianegra.com/events/la-casa-torcida?lang=ca
END:VEVENT
END:VCALENDAR