BEGIN:VCALENDAR
VERSION:2.0
PRODID:-//eventon.com NONSGML v1.0//EN
CALSCALE:GREGORIAN
METHOD:PUBLISH
BEGIN:VEVENT
UID:69e782c728798
DTSTAMP:20260421T135935Z
DTSTART:20260522T180000Z
DTEND:20260522T215900Z
LOCATION:FundaciÃ³n Bancaja PlaÃ§a de TetuÃ¡n\,  23\,  46003 ValÃ¨ncia
SUMMARY:CITA CON LA MUERTE
DESCRIPTION:Henrik FexeusÂ es uno de los mentalistas de mayor reconocimient
 o mundial. Ha dedicado mÃ¡s de quince aÃ±os a analizar el comportamiento hu
 mano. A travÃ©s de Ã¡reas como la psicologÃ­a\,  el marketing y la filosofÃ
 ­a\,  Fexeus ha conseguido tener una visiÃ³n Ãºnica acerca de cÃ³mo podemos
  aprovechar al mÃ¡ximo nuestras capacidades mentales.[..]\nhttps://valencia
 negra.com/events/cita-con-la-muerte?lang=ca
URL:https://valencianegra.com/events/cita-con-la-muerte?lang=ca
END:VEVENT
END:VCALENDAR