BEGIN:VCALENDAR
VERSION:2.0
PRODID:-//eventon.com NONSGML v1.0//EN
CALSCALE:GREGORIAN
METHOD:PUBLISH
BEGIN:VEVENT
UID:69e7831876409
DTSTAMP:20260421T140056Z
DTSTART:20260522T170000Z
DTEND:20260522T215900Z
LOCATION:Fundación Bancaja Plaça de Tetuán\,  23\,  46003 València
SUMMARY:EL TRUCO DE LOS ESPEJOS
DESCRIPTION:Hay exploraciones narrativas que van mucho más allá del argum
 ento de una novela \,  sea negra o no. Es el caso de nuestros invitados\,  
 que buscan con sus libros rellenar huecos\,  explicar la realidad\,  y por 
 supuesto estimular nuestra curiosidad. Y de paso\,  hacernos pasar un buen 
 rato. “El truco[..]\nhttps://valencianegra.com/events/truco-espejos?lang=
 ca
URL:https://valencianegra.com/events/truco-espejos?lang=ca
END:VEVENT
END:VCALENDAR