BEGIN:VCALENDAR
VERSION:2.0
PRODID:-//eventon.com NONSGML v1.0//EN
CALSCALE:GREGORIAN
METHOD:PUBLISH
BEGIN:VEVENT
UID:69e7997a64bba
DTSTAMP:20260421T153626Z
DTSTART:20260521T170000Z
DTEND:20260521T215900Z
LOCATION:Fundación Bancaja Plaça de Tetuán\,  23\,  46003 València
SUMMARY:SE ANUNCIA UN ASESINATO
DESCRIPTION:Los más pequeños son siempre los más vulnerables y\,  por lo
  tanto\,  aquellos que más nos preocupan. ¿Qué pasa entonces cuando la i
 nvestigadora de una novela es una psicóloga infantil? Ya debemos estar pre
 parados para saber que el mal va a azotar a aquellos que no pueden defender
 se y que[..]\nhttps://valencianegra.com/events/se-anuncia-un-asesinato?lang
 =ca
URL:https://valencianegra.com/events/se-anuncia-un-asesinato?lang=ca
END:VEVENT
END:VCALENDAR