BEGIN:VCALENDAR
VERSION:2.0
PRODID:-//eventon.com NONSGML v1.0//EN
CALSCALE:GREGORIAN
METHOD:PUBLISH
BEGIN:VEVENT
UID:69e75e5246082
DTSTAMP:20260421T112402Z
DTSTART:20260520T180000Z
DTEND:20260520T215900Z
LOCATION:Colegio Territorial de Arquitectos de Valencia Calle Hernán Cortés\,  6\,  46004 Valencia
SUMMARY:TRAGEDIA EN TRES ACTOS
DESCRIPTION:Todas las historias\,  suele decirse\,  tienen principio\,  nud
 o y desenlace\,  es decir\,  poseen 3 actos. Lo que no sucede con todas las
  historias es que se conviertan en tragedias\,  es decir\,  en cosas que no
  debieron suceder\,  eventos que debieron evitarse\,  desastres que podría
 n haber sido reparados. A veces las[..]\nhttps://valencianegra.com/events/t
 ragedia-en-tres-actos?lang=ca
URL:https://valencianegra.com/events/tragedia-en-tres-actos?lang=ca
END:VEVENT
END:VCALENDAR