BEGIN:VCALENDAR
VERSION:2.0
PRODID:-//eventon.com NONSGML v1.0//EN
CALSCALE:GREGORIAN
METHOD:PUBLISH
BEGIN:VEVENT
UID:69ec9684c2a93
DTSTAMP:20260425T102508Z
DTSTART:20260519T170000Z
DTEND:20260519T215900Z
LOCATION:Sala Loco Club Carrer de l'Erudit Orellana\,  12\,  Extramurs\,  46008 València\,  Valencia
SUMMARY:VEN Y DIME CÓMO VIVES: vida y canciones de Robe Iniesta & Joaquín Sabina
DESCRIPTION:Nos han enseñado que la literatura habita en las grandes obras
 \,  en la novela\,  en la poesía\,  en el teatro. Pero también la literat
 ura habita en la música por medio de las letras que componen sus versos\, 
  estrofas y estribillos\,  unas letras que nos hacen sentir cosas que no pu
 eden[..]\nhttps://valencianegra.com/events/ven-y-dime-como-vives-robe-inies
 ta-joaquin-sabina?lang=ca
URL:https://valencianegra.com/events/ven-y-dime-como-vives-robe-iniesta-joaquin-sabina?lang=ca
END:VEVENT
END:VCALENDAR