BEGIN:VCALENDAR
VERSION:2.0
PRODID:-//eventon.com NONSGML v1.0//EN
CALSCALE:GREGORIAN
METHOD:PUBLISH
BEGIN:VEVENT
UID:69e75ccbd0e09
DTSTAMP:20260421T111731Z
DTSTART:20260518T180000Z
DTEND:20260518T215900Z
LOCATION:Colegio Territorial de Arquitectos de Valencia Calle Hernán Cortés\,  6\,  46004 Valencia
SUMMARY:MATAR ES FÁCIL
DESCRIPTION:A veces la muerte espera tras un recodo tras una esquina en un 
 lugar concurrido\,  en el lugar donde menos lo esperábamos. Esta es la pre
 misa evidente de prácticamente cualquier novela negra y\,  por lo tanto\, 
  no es nada ajeno a lo que sucede en las novelas de nuestros invitados.[..]
 \nhttps://valencianegra.com/events/matar-es-facil?lang=ca
URL:https://valencianegra.com/events/matar-es-facil?lang=ca
END:VEVENT
END:VCALENDAR