BEGIN:VCALENDAR
VERSION:2.0
PRODID:-//eventon.com NONSGML v1.0//EN
CALSCALE:GREGORIAN
METHOD:PUBLISH
BEGIN:VEVENT
UID:69e783426a176
DTSTAMP:20260421T140138Z
DTSTART:20260518T170000Z
DTEND:20260518T215900Z
LOCATION:Colegio Territorial de Arquitectos de Valencia Calle Hernán Cortés\,  6\,  46004 Valencia
SUMMARY:PLEAMARES DE LA VIDA
DESCRIPTION:Muchas novelas tienen sus raíces en un hecho terrible sucedido
  en el pasado. Los personajes se ven acosados por él hasta que de alguna m
 anera. Deben afrontarlo para sacudírselo de una vez por todas\,  este es e
 l caso de nuestros invitados. “Pleamares de la vida” es un libro public
 ado por[..]\nhttps://valencianegra.com/events/pleamares-de-la-vida?lang=ca
URL:https://valencianegra.com/events/pleamares-de-la-vida?lang=ca
END:VEVENT
END:VCALENDAR