BEGIN:VCALENDAR
VERSION:2.0
PRODID:-//eventon.com NONSGML v1.0//EN
CALSCALE:GREGORIAN
METHOD:PUBLISH
BEGIN:VEVENT
UID:69e75da280728
DTSTAMP:20260421T112106Z
DTSTART:20260520T170000Z
DTEND:20260520T215900Z
LOCATION:Colegio Territorial de Arquitectos de Valencia Calle Hernán Cortés\,  6\,  46004 Valencia
SUMMARY:INOCENCIA TRÁGICA
DESCRIPTION:Suele decirse que la historia la escriben los ganadores\,  y au
 nque sobre eso podría decirse mucho\,  lo cierto es que la historia deja a
 trás a muchos que merecerían estar en ella. Algunos son héroes trágicos
  a su pesar que intentaron hacer lo correcto y fueron aplastados por el rod
 illo de[..]\nhttps://valencianegra.com/events/inocencia-tragica
URL:https://valencianegra.com/events/inocencia-tragica
END:VEVENT
END:VCALENDAR