BEGIN:VCALENDAR
VERSION:2.0
PRODID:-//eventon.com NONSGML v1.0//EN
CALSCALE:GREGORIAN
METHOD:PUBLISH
BEGIN:VEVENT
UID:69e76c080714d
DTSTAMP:20260421T122232Z
DTSTART:20260521T160000Z
DTEND:20260521T215900Z
LOCATION:Fundación Bancaja Plaça de Tetuán\,  23\,  46003 València
SUMMARY:LA RATONERA
DESCRIPTION:Como en una jaula para pequeños animales. A veces las novelas 
 miran al pasado\,  que se convierte en una especie de trampa en el cual sus
  personajes se ven con pocas posibilidades de escapar. En las novelas de nu
 estros invitados\,  además\,  aparece el problema de la identidad como uno
  de[..]\nhttps://valencianegra.com/events/la-ratonera
URL:https://valencianegra.com/events/la-ratonera
END:VEVENT
END:VCALENDAR