BEGIN:VCALENDAR
VERSION:2.0
PRODID:-//eventon.com NONSGML v1.0//EN
CALSCALE:GREGORIAN
METHOD:PUBLISH
BEGIN:VEVENT
UID:69e76c0168dd0
DTSTAMP:20260421T122225Z
DTSTART:20260521T180000Z
DTEND:20260521T215900Z
LOCATION:Fundación Bancaja Plaça de Tetuán\,  23\,  46003 València
SUMMARY:LOS TRABAJOS DE HÉRCULES
DESCRIPTION:Antonio Manzini (Roma\,  1964) es un destacado escritor\,  acto
 r\,  guionista y director italiano\,  famoso internacionalmente por crear 
 la serie de novela negra protagonizada por el subjefe Rocco Schiavone. Con
 siderado heredero de Andrea Camilleri\,  sus obras destacan por un estilo d
 irecto y un personaje principal cínico pero carismático. Es uno de los nu
 estros\, [..]\nhttps://valencianegra.com/events/los-trabajos-de-hercules
URL:https://valencianegra.com/events/los-trabajos-de-hercules
END:VEVENT
END:VCALENDAR