BEGIN:VCALENDAR
VERSION:2.0
PRODID:-//eventon.com NONSGML v1.0//EN
CALSCALE:GREGORIAN
METHOD:PUBLISH
BEGIN:VEVENT
UID:69e781fee4134
DTSTAMP:20260421T135614Z
DTSTART:20260521T190000Z
DTEND:20260521T215900Z
LOCATION:Fundación Bancaja Plaça de Tetuán\,  23\,  46003 València
SUMMARY:PREMIO FRANCISCO GONZÁLEZ LEDESMA 2026
DESCRIPTION:Francisco González Ledesma es uno de los grandes novelistas no
 ir de nuestro siglo xx\,  donde además alcanzó a millones de lectores gra
 cias a las publicaciones de sus innumerables series de personajes donde se 
 ocultaba con pseudónimos\,  y que suman casi 1.500 títulos. Cada año\,  
 Valencia Negra\,  premia la trayectoria de[..]\nhttps://valencianegra.com/e
 vents/premio-francisco-gonzalez-ledesma-2026
URL:https://valencianegra.com/events/premio-francisco-gonzalez-ledesma-2026
END:VEVENT
END:VCALENDAR