BEGIN:VCALENDAR
VERSION:2.0
PRODID:-//eventon.com NONSGML v1.0//EN
CALSCALE:GREGORIAN
METHOD:PUBLISH
BEGIN:VEVENT
UID:69e76c57b6c26
DTSTAMP:20260421T122351Z
DTSTART:20260522T160000Z
DTEND:20260522T215900Z
LOCATION:Fundación Bancaja Plaça de Tetuán\,  23\,  46003 València
SUMMARY:MALDAD BAJO EL SOL
DESCRIPTION:Nuestros invitados huyen del clásico "cadáver como un simple 
 rompecabezas". Sus novelas ponen un peso enorme en el daño colateral y en 
 las personas vulnerables. También en sus investigadores\,  que no son hér
 oes de acción impolutos\,  sino personas desgastadas por el sistema al que
  sirven. Además\,  los tres ven la[..]\nhttps://valencianegra.com/events/s
 in-titulo
URL:https://valencianegra.com/events/sin-titulo
END:VEVENT
END:VCALENDAR