BEGIN:VCALENDAR
VERSION:2.0
PRODID:-//eventon.com NONSGML v1.0//EN
CALSCALE:GREGORIAN
METHOD:PUBLISH
BEGIN:VEVENT
UID:69e76bff0f997
DTSTAMP:20260421T122223Z
DTSTART:20260523T100000Z
DTEND:20260523T215900Z
LOCATION:Fnac San Agustín C/ Guillem De Castro 9-11 - 46007 Valencia
SUMMARY:SANGRE EN LA PISCINA
DESCRIPTION:Existe la novela dura que no hace concesiones\,  que no toma pr
 isioneros\,  y que no tiene miedo de hacer estallar ante los ojos del lecto
 r las imágenes más tremendas imaginadas. Nuestros invitados no tienen mie
 do de mostrar las cosas como son\,  pero no de manera zafia sino con una vi
 olencia[..]\nhttps://valencianegra.com/events/sangre-piscina
URL:https://valencianegra.com/events/sangre-piscina
END:VEVENT
END:VCALENDAR