BEGIN:VCALENDAR
VERSION:2.0
PRODID:-//eventon.com NONSGML v1.0//EN
CALSCALE:GREGORIAN
METHOD:PUBLISH
BEGIN:VEVENT
UID:69e76b649b7cd
DTSTAMP:20260421T121948Z
DTSTART:20260523T160000Z
DTEND:20260523T215900Z
LOCATION:Fundación Bancaja Plaça de Tetuán\,  23\,  46003 València
SUMMARY:Y NO QUEDÓ NINGUNO
DESCRIPTION:En apariencia se trata de autores muy distintos\,  pero el gran
  punto de contacto entre sus obras es que utilizan el misterio o el suspens
 e como excusa para hacer una autopsia emocional. Ya sea desenterrando hueso
 s en Castilla\,  persiguiendo a un asesino en el norte o lidiando con los f
 antasmas[..]\nhttps://valencianegra.com/events/y-no-quedo-ningun
URL:https://valencianegra.com/events/y-no-quedo-ningun
END:VEVENT
END:VCALENDAR