BEGIN:VCALENDAR
VERSION:2.0
PRODID:-//eventon.com NONSGML v1.0//EN
CALSCALE:GREGORIAN
METHOD:PUBLISH
BEGIN:VEVENT
UID:69e781ff13e7c
DTSTAMP:20260421T135615Z
DTSTART:20260523T170000Z
DTEND:20260523T215900Z
LOCATION:Fundación Bancaja Plaça de Tetuán\,  23\,  46003 València
SUMMARY:CARTAS SOBRE LA MESA
DESCRIPTION:El género negro es\,  paradójicamente\,  multicolor. Ejerce s
 obre nosotros tras fascinación que son inabarcables las capas que pueden a
 gregarse a su literatura\,  hasta desdibujar los tópicos y los lugares com
 unes. Nuestros invitados son expertos en encontrar una manera propia de dec
 ir las cosa que\,  de alguna manera\,  consiguen contactar con[..]\nhttps:/
 /valencianegra.com/events/cartas-sobre-la-mesa
URL:https://valencianegra.com/events/cartas-sobre-la-mesa
END:VEVENT
END:VCALENDAR