BEGIN:VCALENDAR
VERSION:2.0
PRODID:-//eventon.com NONSGML v1.0//EN
CALSCALE:GREGORIAN
METHOD:PUBLISH
BEGIN:VEVENT
UID:69e76bb281212
DTSTAMP:20260421T122106Z
DTSTART:20260523T180000Z
DTEND:20260523T215900Z
LOCATION:Fundación Bancaja Plaça de Tetuán\,  23\,  46003 València
SUMMARY:TESTIGO DE CARGO
DESCRIPTION:Juan Gómez-Jurado (Madrid\,  1977) es periodista y autor de v
 arias novelas de gran éxito\,  traducidas a cuarenta lenguas. Las obras so
 bre el Universo Reina Roja (El paciente\,  Cicatriz\,  Reina Roja\,  Lob
 a Negra\,  Rey Blanco\,  Todo arde\,  Todo vuelve y Todo muere\,  toda
 s ellas publicadas en Ediciones B) se han convertido en el mayor fenómeno 
 de ventas del thriller español[..]\nhttps://valencianegra.com/events/testi
 go-de-cargo
URL:https://valencianegra.com/events/testigo-de-cargo
END:VEVENT
END:VCALENDAR