BEGIN:VCALENDAR
VERSION:2.0
PRODID:-//eventon.com NONSGML v1.0//EN
CALSCALE:GREGORIAN
METHOD:PUBLISH
BEGIN:VEVENT
UID:69e782019d748
DTSTAMP:20260421T135617Z
DTSTART:20260524T100000Z
DTEND:20260524T120000Z
LOCATION:Casa del Libro Pg. de Russafa\,  11\,  Ciutat Vella\,  46002 València
SUMMARY:FIRMAS PATA NEGRA
DESCRIPTION:La tradicional fiesta de cierre de Valencia Negra: firma de eje
 mplares en la puerta de la casa del libro con un aliciente especial: cada l
 ibro que compres te da derecho a una tapa de jamón y una cervecita! Jamás
  se entró en una librería con más placer. Además\,  puedes sentarte[..]
 \nhttps://valencianegra.com/events/firmas-pata-negra-2
URL:https://valencianegra.com/events/firmas-pata-negra-2
END:VEVENT
END:VCALENDAR