BEGIN:VCALENDAR
VERSION:2.0
PRODID:-//eventon.com NONSGML v1.0//EN
CALSCALE:GREGORIAN
METHOD:PUBLISH
BEGIN:VEVENT
UID:69e78244696ab
DTSTAMP:20260421T135724Z
DTSTART:20260520T160000Z
DTEND:20260520T215900Z
LOCATION:Biblioteca PÃºblica Joanot Martorell Paque Marchalenes\,  Carrer de Reus\,  s/n\,  46001 Valencia
SUMMARY:EL GÃ‰NERO NEGRO: UN LUGAR DE OPORTUNIDADES
DESCRIPTION:Marta Robles es una escritora premiada que ha explorado a lo la
 rgo de su trayectoria diversos gÃ©neros\,  y sin embargo en los Ãºltimos aÃ
 ±os ha destacado con acierto por sus novelas del comisario Roures en el Ã¡m
 bito de la novela negra. Repasaremos sus Ãºltimas obras y descubriremos cÃ³
 mo aborda la[..]\nhttps://valencianegra.com/events/charla-marta-robles
URL:https://valencianegra.com/events/charla-marta-robles
END:VEVENT
END:VCALENDAR