BEGIN:VCALENDAR
VERSION:2.0
PRODID:-//eventon.com NONSGML v1.0//EN
CALSCALE:GREGORIAN
METHOD:PUBLISH
BEGIN:VEVENT
UID:69e76bb26dd7d
DTSTAMP:20260421T122106Z
DTSTART:20260521T163000Z
DTEND:20260521T215900Z
LOCATION:La Filmoteca Pl. de l'Ajuntament\,  17\,  Ciutat Vella\,  46002 València
SUMMARY:PROYECCIÓN "LA HUELLA DEL MAL"
DESCRIPTION:XXXX\nhttps://valencianegra.com/events/proyeccion-la-huella-del
 -mal
URL:https://valencianegra.com/events/proyeccion-la-huella-del-mal
END:VEVENT
END:VCALENDAR