BEGIN:VCALENDAR
VERSION:2.0
PRODID:-//eventon.com NONSGML v1.0//EN
CALSCALE:GREGORIAN
METHOD:PUBLISH
BEGIN:VEVENT
UID:69e76c5a1a37b
DTSTAMP:20260421T122354Z
DTSTART:20260522T170000Z
DTEND:20260522T215900Z
LOCATION:Fnac San Agustín C/ Guillem De Castro 9-11 - 46007 Valencia
SUMMARY:SPIDER NOIR: GÉNERO NEGRO Y CÓMICS
DESCRIPTION:Paco Roca y Laura Pérez son quizás nuestros mejores dibujante
 s en la actualidad\,  cuyas historias y viñetas nos llevan a unos universo
 s propios. Sin embargo\,  en ellos hay grandes lectores de tebeos\,  cómic
 s y novelas gráficas de todos los estilos\,  y por supuesto del género ne
 gro. Con la excusa de[..]\nhttps://valencianegra.com/events/spider-noir
URL:https://valencianegra.com/events/spider-noir
END:VEVENT
END:VCALENDAR