BEGIN:VCALENDAR
VERSION:2.0
PRODID:-//eventon.com NONSGML v1.0//EN
CALSCALE:GREGORIAN
METHOD:PUBLISH
BEGIN:VEVENT
UID:69e76ca647212
DTSTAMP:20260421T122510Z
DTSTART:20260523T083000Z
DTEND:20260523T120000Z
LOCATION:Biblioteca Municipal Joanot Martorell - Marxalenes C/ de Reus\,  s/n 46009 València
SUMMARY:CLUB DE LOS SOSPECHOSOS
DESCRIPTION:¿Qué es EL CLUB DE LOS SOSPECHOSOS? Esta actividad parte del 
 concepto de Reading Party\,  ampliando la idea de un club de lectura. Nos a
 dentraremos en el universo de Ágatha Christie\,  genial autora de cuya mue
 rte se cumplen ahora 50 años y que protagoniza la imagen de nuestra 14ªed
 ición. Compartiremos[..]\nhttps://valencianegra.com/events/club-de-los-sos
 pechosos
URL:https://valencianegra.com/events/club-de-los-sospechosos
END:VEVENT
END:VCALENDAR