BEGIN:VCALENDAR
VERSION:2.0
PRODID:-//eventon.com NONSGML v1.0//EN
CALSCALE:GREGORIAN
METHOD:PUBLISH
BEGIN:VEVENT
UID:69e76bb495c81
DTSTAMP:20260421T122108Z
DTSTART:20260521T160000Z
DTEND:20260521T215900Z
LOCATION:Biblioteca Eduard Escalante (Abastos) C/ d'Alberic\,  18 46008 València
SUMMARY:CLUB DE LECTURA "LAPSUS"
DESCRIPTION:Apúntate escribiendo a nuestro email: actividadesvlcn@gmail.co
 m\nhttps://valencianegra.com/events/club-de-lectura-lapsus
URL:https://valencianegra.com/events/club-de-lectura-lapsus
END:VEVENT
END:VCALENDAR