BEGIN:VCALENDAR
VERSION:2.0
PRODID:-//eventon.com NONSGML v1.0//EN
CALSCALE:GREGORIAN
METHOD:PUBLISH
BEGIN:VEVENT
UID:69e76bbf486b3
DTSTAMP:20260421T122119Z
DTSTART:20260520T173000Z
DTEND:20260520T215900Z
LOCATION:Museo l&#039;Iber C. de Caballeros 22\,  Ciutat Vella\,  46001
SUMMARY:CLUB DE LECTURA AGATHA CHRISTIE "Y NO QUEDÓ NINGUNO"
DESCRIPTION:Apúntate escribiendo a nuestro email: actividadesvlcn@gmail.co
 m\nhttps://valencianegra.com/events/por-silenciosa
URL:https://valencianegra.com/events/por-silenciosa
END:VEVENT
END:VCALENDAR