BEGIN:VCALENDAR
VERSION:2.0
PRODID:-//eventon.com NONSGML v1.0//EN
CALSCALE:GREGORIAN
METHOD:PUBLISH
BEGIN:VEVENT
UID:69e7818329084
DTSTAMP:20260421T135411Z
DTSTART:20260523T100000Z
DTEND:20260523T215900Z
LOCATION:Colegio Helios - L'ELIANA Ctra. Riba-Roja de Turia a S. A. Benagéber\,  km. 6 46183 L’Eliana (Valencia)
SUMMARY:CLUB DE LECTURA "EL ASESINO DE INVIERNO"
DESCRIPTION:Apúntate escribiendo a nuestro email: actividadesvlcn@gmail.co
 m\nhttps://valencianegra.com/events/club-de-lectura-el-asesino-de-invierno
URL:https://valencianegra.com/events/club-de-lectura-el-asesino-de-invierno
END:VEVENT
END:VCALENDAR