BEGIN:VCALENDAR
VERSION:2.0
PRODID:-//eventon.com NONSGML v1.0//EN
CALSCALE:GREGORIAN
METHOD:PUBLISH
BEGIN:VEVENT
UID:69e7820a3b2d8
DTSTAMP:20260421T135626Z
DTSTART:20260523T100000Z
DTEND:20260523T215900Z
LOCATION:Librería Somnis de Paper Carrer Major\,  36D\,  46910 Benetússer\,  València
SUMMARY:CLUB DE LECTURA "OBJETOS PERDIDOS"
DESCRIPTION:Apúntate escribiendo a nuestro email: actividadesvlcn@gmail.co
 m\nhttps://valencianegra.com/events/club-de-lectura-objetos-perdidos
URL:https://valencianegra.com/events/club-de-lectura-objetos-perdidos
END:VEVENT
END:VCALENDAR