BEGIN:VCALENDAR
VERSION:2.0
PRODID:-//eventon.com NONSGML v1.0//EN
CALSCALE:GREGORIAN
METHOD:PUBLISH
BEGIN:VEVENT
UID:69e76cc722223
DTSTAMP:20260421T122543Z
DTSTART:20260523T100000Z
DTEND:20260523T215900Z
LOCATION:Biblioteca de la Pobla de Farnals Carrer Miquel Marqués\,  9\,  46139 La Pobla de Farnals\,  Valencia
SUMMARY:CLUB DE LECTURA "EL ÚLTIMO CASO DE UNAMUNO"
DESCRIPTION:Apúntate escribiendo a nuestro email: actividadesvlcn@gmail.co
 m\nhttps://valencianegra.com/events/club-de-lectura-el-ultimo-caso-de-unamu
 no
URL:https://valencianegra.com/events/club-de-lectura-el-ultimo-caso-de-unamuno
END:VEVENT
END:VCALENDAR