BEGIN:VCALENDAR
VERSION:2.0
PRODID:-//eventon.com NONSGML v1.0//EN
CALSCALE:GREGORIAN
METHOD:PUBLISH
BEGIN:VEVENT
UID:69e78207f2b3f
DTSTAMP:20260421T135623Z
DTSTART:20260523T100000Z
DTEND:20260523T215900Z
LOCATION:Librería Gaia Carrer de Daniel Balaciart\,  4 46020 València
SUMMARY:CLUB DE LECTURA "SIRENAS\,  LEONES Y OTROS ENCUENTROS INESPERADOS"
DESCRIPTION:Apúntate escribiendo a nuestro email: actividadesvlcn@gmail.co
 m\nhttps://valencianegra.com/events/club-de-lectura-sirena-leones-y-otros-e
 ncuentros-inesperados
URL:https://valencianegra.com/events/club-de-lectura-sirena-leones-y-otros-encuentros-inesperados
END:VEVENT
END:VCALENDAR