BEGIN:VCALENDAR
VERSION:2.0
PRODID:-//eventon.com NONSGML v1.0//EN
CALSCALE:GREGORIAN
METHOD:PUBLISH
BEGIN:VEVENT
UID:69e782055b62b
DTSTAMP:20260421T135621Z
DTSTART:20260519T080000Z
DTEND:20260519T100000Z
LOCATION:Biblioteca Municipal Luis Fullana Plaza Maguncia\,  1\,  46018 Valencia
SUMMARY:CUENTACUENTOS ESCOLARES: "POLIS Y CACOS"
DESCRIPTION:Público : escolares Contaremos con dos sesiones : Primer pase:
  10:00 h Segundo pase: 12:00 h\nhttps://valencianegra.com/events/cuentacuen
 tos-polis-y-cacos-ladrones-y-un-asesinato-para-los-postres
URL:https://valencianegra.com/events/cuentacuentos-polis-y-cacos-ladrones-y-un-asesinato-para-los-postres
END:VEVENT
END:VCALENDAR