BEGIN:VCALENDAR
VERSION:2.0
PRODID:-//eventon.com NONSGML v1.0//EN
CALSCALE:GREGORIAN
METHOD:PUBLISH
BEGIN:VEVENT
UID:69e7819964fab
DTSTAMP:20260421T135433Z
DTSTART:20260521T100000Z
DTEND:20260521T110000Z
LOCATION:Biblioteca Municipal Palau de L&#039;Exposició Carrer de Galícia\,  1\,  46010 València
SUMMARY:CUENTACUENTOS ESCOLARES "POLIS Y CACOS"
DESCRIPTION:Público: Escolares Contaremos con dos sesiones : Primer pase: 
 12:00 h Segundo pase: 13:00 h &nbsp;\nhttps://valencianegra.com/events/cuen
 tacuentos-polis-y-cacos
URL:https://valencianegra.com/events/cuentacuentos-polis-y-cacos
END:VEVENT
END:VCALENDAR