BEGIN:VCALENDAR
VERSION:2.0
PRODID:-//eventon.com NONSGML v1.0//EN
CALSCALE:GREGORIAN
METHOD:PUBLISH
BEGIN:VEVENT
UID:69e78205820ff
DTSTAMP:20260421T135621Z
DTSTART:20260520T153000Z
DTEND:20260520T215900Z
LOCATION:Biblioteca Municipal Palau de L&#039;Exposició Carrer de Galícia\,  1\,  46010 València
SUMMARY:CUENTACUENTOS "Polis y cacos\,  ladrones y un asesinato para los postres"
DESCRIPTION:ENTRADA LIBRE Público: 7 a 10 años\nhttps://valencianegra.com
 /events/cuentacuentos-polis-y-cacos-2
URL:https://valencianegra.com/events/cuentacuentos-polis-y-cacos-2
END:VEVENT
END:VCALENDAR