BEGIN:VCALENDAR
VERSION:2.0
PRODID:-//eventon.com NONSGML v1.0//EN
CALSCALE:GREGORIAN
METHOD:PUBLISH
BEGIN:VEVENT
UID:69e74b1500964
DTSTAMP:20260421T100157Z
DTSTART:20230520T100000Z
DTEND:20230520T215000Z
LOCATION:Biblioteca Valenciana Nicolau Primitiu - S. Miguel de los Reyes Avinguda de la Constitució\,  284\,  46019 València\,  Valencia
SUMMARY:CLUB DE LECTURA "LOS DOS LADOS"
DESCRIPTION:La nueva voz de la novela policiaca en español. Justo cuando l
 a teniente Karen Blecker se pregunta de nuevo si los inviernos serán siemp
 re así de fríos y monocordes en el cuartel de San Lorenzo de El Escorial\
 ,  el guardia Suárez notifica la llamada de tres paseantes: ha aparecido u
 n[..]\nhttps://valencianegra.com/events/club-de-lectura-un-bien-relativo?la
 ng=ca
URL:https://valencianegra.com/events/club-de-lectura-un-bien-relativo?lang=ca
END:VEVENT
END:VCALENDAR