BEGIN:VCALENDAR
VERSION:2.0
PRODID:-//eventon.com NONSGML v1.0//EN
CALSCALE:GREGORIAN
METHOD:PUBLISH
BEGIN:VEVENT
UID:69e74c81ae211
DTSTAMP:20260421T100801Z
DTSTART:20230520T100000Z
DTEND:20230520T215000Z
LOCATION:Librería Cooperativa ABACUS - Poeta Quintana Carrer del Poeta Quintana\,  5\,  46003 València\,  Valencia
SUMMARY:CLUB DE LECTURA "ASTILLAS EN LA PIEL"
DESCRIPTION:Astillas en la piel es un absorbente thriller psicológico que 
 muestra que hay astillas del pasado que conviene no extraer jamás. Dos ami
 gos de la niñez con una deuda pendiente. Un forzado reencuentro en la amur
 allada localidad vallisoletana de Urueña. Álvaro\,  un exitoso escritor\,
   y Mateo\,  un crucigramista en números[..]\nhttps://valencianegra.com/ev
 ents/club-de-lectura-astillas-en-la-piel-2?lang=ca
URL:https://valencianegra.com/events/club-de-lectura-astillas-en-la-piel-2?lang=ca
END:VEVENT
END:VCALENDAR