BEGIN:VCALENDAR
VERSION:2.0
PRODID:-//eventon.com NONSGML v1.0//EN
CALSCALE:GREGORIAN
METHOD:PUBLISH
BEGIN:VEVENT
UID:69e74c9692b12
DTSTAMP:20260421T100822Z
DTSTART:20230511T180000Z
DTEND:20230511T215000Z
LOCATION:Biblioteca Valenciana Nicolau Primitiu - S. Miguel de los Reyes Avinguda de la Constitució\,  284\,  46019 València\,  Valencia
SUMMARY:NOVELA NEGRA VALENCIANA (O NO)
DESCRIPTION:Hay una novela valenciana (o no)\,  hecha en valencia (o no)\, 
  que transcurre en valencia (o no)\,  que se festeja y se lee en València 
 (eso siempre)... en castellano y en valencià. Nuestros invitados conoces m
 uy bien lo que representaba el género en nuestra ciudad hace una década y
  lo[..]\nhttps://valencianegra.com/events/novela-valenciana?lang=ca
URL:https://valencianegra.com/events/novela-valenciana?lang=ca
END:VEVENT
END:VCALENDAR