BEGIN:VCALENDAR
VERSION:2.0
PRODID:-//eventon.com NONSGML v1.0//EN
CALSCALE:GREGORIAN
METHOD:PUBLISH
BEGIN:VEVENT
UID:69e74bc4abe33
DTSTAMP:20260421T100452Z
DTSTART:20230517T180000Z
DTEND:20230517T215000Z
LOCATION:La Casa de Patraix C/ del Convent de Jesús\,  11\,  46018 València\,  Valencia
SUMMARY:CLUB DE LECTURA HOMENAJE A LUIS VALERA
DESCRIPTION:El 10 de octubre del año pasado\,  demasiado pronto\,  nos dej
 aba Luis Valera\,  escritor y amigo de Valencia Negra. Luis dirigía un clu
 b de lectura de novela negra desde hace más de 15 años\,  que fue cambian
 do con el tiempo. Incansable\,  preparaba cada sesión con mimo y\,  al mis
 mo tiempo\, [..]\nhttps://valencianegra.com/events/club-de-lectura-luis-val
 era?lang=ca
URL:https://valencianegra.com/events/club-de-lectura-luis-valera?lang=ca
END:VEVENT
END:VCALENDAR