BEGIN:VCALENDAR
VERSION:2.0
PRODID:-//eventon.com NONSGML v1.0//EN
CALSCALE:GREGORIAN
METHOD:PUBLISH
BEGIN:VEVENT
UID:69e76bfed175d
DTSTAMP:20260421T122222Z
DTSTART:20260518T153000Z
DTEND:20260518T215900Z
LOCATION:Biblioteca Municipal de El Castellar - L'Oliveral - Matilde Ramos C/ Poetessa Leonor Perales\,  s/n 46026 València
SUMMARY:CLUB DE LECTURA "FLETXES DESVIADES" (en valenciano)
DESCRIPTION:Apúntate escribiendo a nuestro email : actividadesvlcn@gmail.c
 om\nhttps://valencianegra.com/events/club-de-lectura-fletxes-desviades-en-v
 alenciano
URL:https://valencianegra.com/events/club-de-lectura-fletxes-desviades-en-valenciano
END:VEVENT
END:VCALENDAR