BEGIN:VCALENDAR
VERSION:2.0
PRODID:-//eventon.com NONSGML v1.0//EN
CALSCALE:GREGORIAN
METHOD:PUBLISH
BEGIN:VEVENT
UID:69e74b51c9836
DTSTAMP:20260421T100257Z
DTSTART:20230513T160000Z
DTEND:20230513T215000Z
LOCATION:La Filmoteca Pl. de l'Ajuntament\,  17\,  Ciutat Vella\,  46002 València
SUMMARY:"LOS AMANTES DE LA NOCHE" (1948) - CICLO CINE EN LA CARRETERA
DESCRIPTION:Título original: They Live by Night.    Año: 1948 Duración
 : 95 min.     País: Estados Unidos      RKO Radio Pictures Direcció
 n: Nicholas Ray Guion: Nicholas Ray\,  Charles Schnee. Novela: Edward Ander
 son Música: Leigh Harline Fotografía: George E. Diskant (B&amp;W) Reparto
 : Cathy O'Donnell\,  Farley Granger\,  Howard Da Silva\,  Jay C.[..]\nhttps
 ://valencianegra.com/events/los-amantes-de-la-noche-1948-ciclo-cine-en-la-c
 arretera-copy?lang=ca
URL:https://valencianegra.com/events/los-amantes-de-la-noche-1948-ciclo-cine-en-la-carretera-copy?lang=ca
END:VEVENT
END:VCALENDAR