BEGIN:VCALENDAR
VERSION:2.0
PRODID:-//eventon.com NONSGML v1.0//EN
CALSCALE:GREGORIAN
METHOD:PUBLISH
BEGIN:VEVENT
UID:69e74bc4b284e
DTSTAMP:20260421T100452Z
DTSTART:20230511T153000Z
DTEND:20230511T215000Z
LOCATION:Biblioteca Municipal Carola Reig Salva C/ de Francesc Martínez\,  32-34 46020 València
SUMMARY:MISTERIOS Y GABARDINAS
DESCRIPTION:Misterios y gabardinas (literatura y cine). Duración: 45 minu
 tos. Dirigido a: Grupos escolares de segundo y tercer ciclo de Educación
  Primaria. Objetivos: Conocer qué es el género negro\,  reflexionar so
 bre los estereotipos y cómo se construyen\,  desarrollar las capacidades 
 de relación y asociación y fomentar la creatividad y el trabajo en grup
 o.[..]\nhttps://valencianegra.com/events/misterios-y-gabardinas-3?lang=ca
URL:https://valencianegra.com/events/misterios-y-gabardinas-3?lang=ca
END:VEVENT
END:VCALENDAR