BEGIN:VCALENDAR
VERSION:2.0
PRODID:-//eventon.com NONSGML v1.0//EN
CALSCALE:GREGORIAN
METHOD:PUBLISH
BEGIN:VEVENT
UID:69e74cddb843d
DTSTAMP:20260421T100933Z
DTSTART:20230521T160000Z
DTEND:20230521T215000Z
LOCATION:La Filmoteca Pl. de l'Ajuntament\,  17\,  Ciutat Vella\,  46002 València
SUMMARY:"EL DEMONIO DE LAS ARMAS" (1950) - CICLO CINE EN LA CARRETERA
DESCRIPTION:Título original: Deadly Is the Female.         Año: 1950
  Duración: 87 min.                  País: Estados Unidos     
 King Brothers Productions Dirección: Joseph H. Lewis Guion: MacKinlay Kant
 or\,  Dalton Trumbo\,  Millard Kaufman. Historia: MacKinlay Kantor Música:
  Victor Young Fotografía: Russell Harlan (B&amp;W)[..]\nhttps://valenciane
 gra.com/events/demonio-armas?lang=ca
URL:https://valencianegra.com/events/demonio-armas?lang=ca
END:VEVENT
END:VCALENDAR